BEGIN:VCALENDAR
VERSION:2.0
PRODID:-//West London Buddhist Centre - ECPv6.15.20//NONSGML v1.0//EN
CALSCALE:GREGORIAN
METHOD:PUBLISH
X-WR-CALNAME:West London Buddhist Centre
X-ORIGINAL-URL:https://westlondonbuddhistcentre.com
X-WR-CALDESC:Events for West London Buddhist Centre
REFRESH-INTERVAL;VALUE=DURATION:PT1H
X-Robots-Tag:noindex
X-PUBLISHED-TTL:PT1H
BEGIN:VTIMEZONE
TZID:Europe/London
BEGIN:DAYLIGHT
TZOFFSETFROM:+0000
TZOFFSETTO:+0100
TZNAME:BST
DTSTART:20250330T010000
END:DAYLIGHT
BEGIN:STANDARD
TZOFFSETFROM:+0100
TZOFFSETTO:+0000
TZNAME:GMT
DTSTART:20251026T010000
END:STANDARD
BEGIN:DAYLIGHT
TZOFFSETFROM:+0000
TZOFFSETTO:+0100
TZNAME:BST
DTSTART:20260329T010000
END:DAYLIGHT
BEGIN:STANDARD
TZOFFSETFROM:+0100
TZOFFSETTO:+0000
TZNAME:GMT
DTSTART:20261025T010000
END:STANDARD
BEGIN:DAYLIGHT
TZOFFSETFROM:+0000
TZOFFSETTO:+0100
TZNAME:BST
DTSTART:20270328T010000
END:DAYLIGHT
BEGIN:STANDARD
TZOFFSETFROM:+0100
TZOFFSETTO:+0000
TZNAME:GMT
DTSTART:20271031T010000
END:STANDARD
END:VTIMEZONE
BEGIN:VEVENT
DTSTART;TZID=Europe/London:20260423T130000
DTEND;TZID=Europe/London:20260611T153000
DTSTAMP:20260423T021838
CREATED:20250107T102058Z
LAST-MODIFIED:20260309T155847Z
UID:61769-1776949200-1781191800@westlondonbuddhistcentre.com
SUMMARY:Breathworks Mindfulness for Stress 8-week course
DESCRIPTION:
URL:https://westlondonbuddhistcentre.com/event/breathworks-mindfulness-for-stress-8-week-course/
LOCATION:West London Buddhist Centre\, Royal Oak House\, 45A Porchester Rd\, London\, W2 5DP
CATEGORIES:Calendar for all events,Meditation Courses,Mindfulness Courses
ORGANIZER;CN="West London Buddhist Centre":MAILTO:Info@westlondonbuddhistcentre.com
END:VEVENT
END:VCALENDAR